BEGIN:VCALENDAR
VERSION:2.0
PRODID:-//South Okanagan Events Centre - ECPv6.15.20//NONSGML v1.0//EN
CALSCALE:GREGORIAN
METHOD:PUBLISH
X-ORIGINAL-URL:https://soec.ca
X-WR-CALDESC:Events for South Okanagan Events Centre
REFRESH-INTERVAL;VALUE=DURATION:PT1H
X-Robots-Tag:noindex
X-PUBLISHED-TTL:PT1H
BEGIN:VTIMEZONE
TZID:America/Vancouver
BEGIN:DAYLIGHT
TZOFFSETFROM:-0800
TZOFFSETTO:-0700
TZNAME:PDT
DTSTART:20250309T100000
END:DAYLIGHT
BEGIN:STANDARD
TZOFFSETFROM:-0700
TZOFFSETTO:-0800
TZNAME:PST
DTSTART:20251102T090000
END:STANDARD
BEGIN:DAYLIGHT
TZOFFSETFROM:-0800
TZOFFSETTO:-0700
TZNAME:PDT
DTSTART:20260308T100000
END:DAYLIGHT
BEGIN:STANDARD
TZOFFSETFROM:-0700
TZOFFSETTO:-0800
TZNAME:PST
DTSTART:20261101T090000
END:STANDARD
BEGIN:DAYLIGHT
TZOFFSETFROM:-0800
TZOFFSETTO:-0700
TZNAME:PDT
DTSTART:20270314T100000
END:DAYLIGHT
BEGIN:STANDARD
TZOFFSETFROM:-0700
TZOFFSETTO:-0800
TZNAME:PST
DTSTART:20271107T090000
END:STANDARD
END:VTIMEZONE
BEGIN:VEVENT
DTSTART;TZID=America/Vancouver:20260912T190000
DTEND;TZID=America/Vancouver:20260912T223000
DTSTAMP:20260421T035907
CREATED:20260407T170026Z
LAST-MODIFIED:20260410T190615Z
UID:9839-1789239600-1789252200@soec.ca
SUMMARY:Lyle Lovett and his Small Large Band
DESCRIPTION:Tickets start at $69.50*\n*Additional fees apply. \n\n\nFour-time Grammy Award winner Lyle Lovett brings his celebrated Small Large Band to the South Okanagan Events Centre on Saturday\, September 12\, 2026 for an unforgettable evening of music and storytelling. \nOver a career spanning more than three decades\, Lovett has become one of America’s most distinctive singer-songwriters. Blending elements of country\, swing\, jazz\, folk and blues\, his rich sound and sharp lyrics have earned him critical acclaim and a devoted following. Whether performing intimate ballads or full-band arrangements\, Lovett’s live performances showcase the exceptional musicianship and charm that have made him a legendary touring artist. \nJoining the evening as special guests are The Hello Darlins\, whose soulful\, roots-inspired sound has been captivating audiences across North America. \n\n frameborder="0" allowfullscreen="allowfullscreen" allow="autoplay; clipboard-write; encrypted-media; fullscreen; picture-in-picture" loading="lazy">
URL:https://soec.ca/event/lyle-lovett-and-his-small-large-band/
LOCATION:BC
ATTACH;FMTTYPE=image/png:https://soec.ca/wp-content/uploads/2026/04/26I12_SOEC_LyleLovett_1600X900.png
END:VEVENT
BEGIN:VEVENT
DTSTART;TZID=America/Vancouver:20260913T193000
DTEND;TZID=America/Vancouver:20260913T223000
DTSTAMP:20260421T035907
CREATED:20260302T150043Z
LAST-MODIFIED:20260307T033436Z
UID:9694-1789327800-1789338600@soec.ca
SUMMARY:Bryan Adams - Roll with the Punches Tour
DESCRIPTION:Tickets start at $59.00*\n*Additional fees apply. \nCanadian rocker Bryan Adams has announced additional tour dates\, extending the Roll With The Punches Tour with special guest Lights with a stop at the South Okanagan Events Centre (SOEC) in Penticton\, BC on Sunday\, September 13. \n\n\nFollowing a massive international run\, the Roll With The Punches Tour has captured fans worldwide with its powerful performances\, dynamic staging\, and a setlist spanning Adams’ legendary four‑decade career. Named after his anticipated upcoming album\, the tour builds on the rock-forward sound Bryan Adams is celebrated for — blending raw energy\, unforgettable hooks\, and his unmistakable voice. \nWith timeless classics like “Summer of ’69\,” “Run to You\,” and “(Everything I Do) I Do It for You\,” Adams continues to prove why he remains one of the most enduring and influential artists in rock music. \nJoining Adams as special guest is Lights\, whose genre-blurring pop sound and electrifying stage presence make for a powerful opening set. \n\n\nBryan Adams fans can secure the best seats for Penticton’s show online at ValleyFirstTix.com or in person at the Valley First Box Office at the SOEC starting Friday\, March 6 at 10:00 AM PT. \n title="YouTube video player" frameborder="0" allow="accelerometer; autoplay; clipboard-write; encrypted-media; gyroscope; picture-in-picture; web-share" referrerpolicy="strict-origin-when-cross-origin" allowfullscreen="allowfullscreen">
URL:https://soec.ca/event/bryan-adams-roll-with-the-punches-tour/
LOCATION:South Okanagan Events Centre\, 853 Eckhardt Ave. West\, Penticton\, BC\, V2A 9C4\, Canada
ATTACH;FMTTYPE=image/jpeg:https://soec.ca/wp-content/uploads/2026/02/Static_Outdoor-ConcertVision_1920x1080_BryanAdams_2025_Regional_SouthOkanaganEventsCentre_0913.jpg
END:VEVENT
END:VCALENDAR