BEGIN:VCALENDAR
VERSION:2.0
PRODID:-//South Okanagan Events Centre - ECPv6.15.20//NONSGML v1.0//EN
CALSCALE:GREGORIAN
METHOD:PUBLISH
X-ORIGINAL-URL:https://soec.ca
X-WR-CALDESC:Events for South Okanagan Events Centre
REFRESH-INTERVAL;VALUE=DURATION:PT1H
X-Robots-Tag:noindex
X-PUBLISHED-TTL:PT1H
BEGIN:VTIMEZONE
TZID:America/Vancouver
BEGIN:DAYLIGHT
TZOFFSETFROM:-0800
TZOFFSETTO:-0700
TZNAME:PDT
DTSTART:20250309T100000
END:DAYLIGHT
BEGIN:STANDARD
TZOFFSETFROM:-0700
TZOFFSETTO:-0800
TZNAME:PST
DTSTART:20251102T090000
END:STANDARD
BEGIN:DAYLIGHT
TZOFFSETFROM:-0800
TZOFFSETTO:-0700
TZNAME:PDT
DTSTART:20260308T100000
END:DAYLIGHT
BEGIN:STANDARD
TZOFFSETFROM:-0700
TZOFFSETTO:-0800
TZNAME:PST
DTSTART:20261101T090000
END:STANDARD
BEGIN:DAYLIGHT
TZOFFSETFROM:-0800
TZOFFSETTO:-0700
TZNAME:PDT
DTSTART:20270314T100000
END:DAYLIGHT
BEGIN:STANDARD
TZOFFSETFROM:-0700
TZOFFSETTO:-0800
TZNAME:PST
DTSTART:20271107T090000
END:STANDARD
END:VTIMEZONE
BEGIN:VEVENT
DTSTART;VALUE=DATE:20260307
DTEND;VALUE=DATE:20260323
DTSTAMP:20260420T194124
CREATED:20260128T170055Z
LAST-MODIFIED:20260305T192056Z
UID:9565-1772841600-1774223999@soec.ca
SUMMARY:2026 CSSHL Western Championships
DESCRIPTION:Day Pass – $27.50*\nFull Tournament Pass – $75.00*\n*Additional fees apply online.\n\nThe Canadian Sport School Hockey League (CSSHL) Western Championships will take place March 7-22\, 2026\, in Penticton\, B.C. and will see champions crowned in the U15\, U15 Prep\, U17\, U17 Prep\, U18 Prep and Female U18 Prep divisions. Each division will be split into Division I & Division 2 pre-Championships based on the official CSSHL MYHockey Rankings\, with each division crowning a champion. \nThis will be the 11th time the City of Penticton has hosted the CSSHL Western Championships event. This event provides CSSHL member programs and its staff and student-athletes\, aged 13-18\, with valuable opportunities and experience. \nThe CSSHL Western Championships will see 106 teams from BC\, Alberta\, Saskatchewan\, Manitoba\, Idaho and Washington compete\, with 187 of the 196 games at the Okanagan Hockey Training Centre\, Memorial Arena and South Okanagan Events Centre. For team schedule details\, visit www.csshl.ca. \n\n\nVENUE LOCATIONS & RINKS \nGames will take place at the following Penticton venues on the South Okanagan Events Centre (SOEC) Complex: \n• South Okanagan Events Centre (SOEC) \n• Okanagan Hockey Training Centre (OHTC) \n• Memorial Arena \nPlease note: \n• SOEC and Memorial Arena both have elevators at the main entrance. \n• OHA does not have an elevator. \nAdditional games will also be hosted in: \n• Summerland\, BC \n• Oliver\, BC \nPARKING & DIRECTIONS \nFor directions and parking information\, please visit:\nhttps://soec.ca/arena-information/parking-and-directions/ \n \nTICKETS (PASSES) \nFull Tournament Passes and Day Passes are available to purchase in person at the Valley First Box Office at the SOEC\, or online at www.ValleyFirstTix.com. When purchasing online\, the following delivery options are available: \nMobile Tickets/Passes\nPresent your tickets on your mobile device for entry. We strongly recommend downloading your tickets to your Apple Wallet or Google Wallet prior to arriving at the venue to ensure smooth entry. \nWill Call\nFull Tournament Passes and Day Passes can be picked up at the Valley First Box Office at the SOEC. Please bring valid photo ID and your order confirmation. \nPasses may also be purchased in person at the Valley First Box Office\, located at the main entrance of the South Okanagan Events Centre. \nImportant:\nYour confirmation email is NOT your ticket/pass. You must present: \n• Your Mobile ticket with QR code\, or \n• Your Print-at-Home ticket\, or \n• Your paper ticket purchased in person at the box office \nMobile tickets must be downloaded to your phone prior to arrival. \nENTRY REQUIREMENTS \n• Attendees and participants must adhere to the venue’s Fan Code of Conduct and entry policies. \n• The SOEC Complex enforces a Clear Bag Policy. Please see below for more details. \n• Outside food and beverage are NOT permitted inside the venue. \n• Pets are not permitted inside the venue. Certified service animals assisting guests with disabilities are welcome in accordance with applicable accessibility legislation. \n• Please note there are no water refill stations available onsite. \n• Patrons may be refused entry if they are in possession of prohibited items. The SOEC reserves the right to escort guests carrying prohibited items from the property. \nCLEAR BAG POLICY \nIn alignment with industry standards\, the South Okanagan Events Centre enforces a Clear Bag Policy to ensure public safety and expedite entry during security checks. \nClear Bags \n• Clear plastic\, vinyl or PVC bags (12” x 6” x 12”) \n• One-gallon clear freezer bags (Ziploc\, etc.) \n• Clear backpacks no larger than 12” x 6” x 12” with no more than two pockets \nNon-Clear Small Purse / Belt Bag / Clutch / Wallet \n• 4.5” x 6.5” or smaller \n• May be brought in addition to one approved clear bag option \nFull policy details available at:\nhttps://soec.ca/arena-information/clear-bag-policy/ \nMERCHANDISE \nTake home a piece of the tournament! Official CSSHL Western Championships merchandise will be available for purchase throughout the event. Merchandise booth is located at the South Okanagan Events Centre\, behind the stairs at Gate 1 (main entrance). Open daily from 10:00 AM to 7:00 PM* . Cash and card are accepted. \n*Please note: \nStore closes early on Penticton Vees game days (March 13\, 17 and 20) \nStore hours are subject to change. \nFOOD & BEVERAGE \nConcession stands located at the SOEC and OHTC will be open at venues serving food and beverages throughout the tournament. Cash and card are accepted. \n  \n 
URL:https://soec.ca/event/2026-csshl-western-championships/
LOCATION:South Okanagan Events Centre\, 853 Eckhardt Ave. West\, Penticton\, BC\, V2A 9C4\, Canada
ATTACH;FMTTYPE=image/png:https://soec.ca/wp-content/uploads/2026/01/2026-placeholder-CSSHL_1920-x-1080.png
END:VEVENT
END:VCALENDAR