BEGIN:VCALENDAR
VERSION:2.0
PRODID:-//South Okanagan Events Centre - ECPv6.15.20//NONSGML v1.0//EN
CALSCALE:GREGORIAN
METHOD:PUBLISH
X-ORIGINAL-URL:https://soec.ca
X-WR-CALDESC:Events for South Okanagan Events Centre
REFRESH-INTERVAL;VALUE=DURATION:PT1H
X-Robots-Tag:noindex
X-PUBLISHED-TTL:PT1H
BEGIN:VTIMEZONE
TZID:America/Vancouver
BEGIN:DAYLIGHT
TZOFFSETFROM:-0800
TZOFFSETTO:-0700
TZNAME:PDT
DTSTART:20250309T100000
END:DAYLIGHT
BEGIN:STANDARD
TZOFFSETFROM:-0700
TZOFFSETTO:-0800
TZNAME:PST
DTSTART:20251102T090000
END:STANDARD
BEGIN:DAYLIGHT
TZOFFSETFROM:-0800
TZOFFSETTO:-0700
TZNAME:PDT
DTSTART:20260308T100000
END:DAYLIGHT
BEGIN:STANDARD
TZOFFSETFROM:-0700
TZOFFSETTO:-0800
TZNAME:PST
DTSTART:20261101T090000
END:STANDARD
BEGIN:DAYLIGHT
TZOFFSETFROM:-0800
TZOFFSETTO:-0700
TZNAME:PDT
DTSTART:20270314T100000
END:DAYLIGHT
BEGIN:STANDARD
TZOFFSETFROM:-0700
TZOFFSETTO:-0800
TZNAME:PST
DTSTART:20271107T090000
END:STANDARD
END:VTIMEZONE
BEGIN:VEVENT
DTSTART;TZID=America/Vancouver:20260117T180000
DTEND;TZID=America/Vancouver:20260117T210000
DTSTAMP:20260420T225207
CREATED:20260101T000919Z
LAST-MODIFIED:20260113T194058Z
UID:9524-1768672800-1768683600@soec.ca
SUMMARY:Penticton Vees vs. Calgary Hitmen | Country Night ft. JoJo Mason
DESCRIPTION:Join us THIS SATURDAY (January 17) for COUNTRY NIGHT\, presented by Local Public Eatery and New Country 100.7\, as the Penticton Vees battle the Calgary Hitmen at the SOEC! \nThere will be a special appearance by Canadian country music artist Jojo Mason who will be singing the national anthem and performing live during the first intermission. With six different songs that have hit the Top 10 on the Canadian Country Charts\, we are so excited to welcome Jojo Mason to the SOEC! \nFans are encouraged to wear their best country attire while country tunes blast all night long! \n\n \n** CLEAR BAG POLICY NOW IN EFFECT **\nTICKET PRICING:\nAdults – $26.00 + GST\nYouth (ages 13-18) – $10.00 + GST\nLocal Children (ages 12 & under) – FREE*\nClub Seating – $32.00 + GST \nFree local children’s tickets and $10 youth tickets are courtesy of Peters Bros Construction. \n*Free tickets for local children are available in person only at the Valley First Box Office at the SOEC and must be accompanied by a parent or guardian.\n\n  \nPREMIUM BAR RAIL SEATING:\nEnjoy the Penticton Vees like never before with premium Bar Rail seating inside The Vault Bar & Grill! \nFor $80.00 + GST\, your experience includes:\n🎫 One (1) Penticton Vees game ticket\n🍝 A $38.00 Food & Beverage voucher to enjoy your favourites from The Vault Bar & Grill\n🏒 Premium\, elevated seating overlooking the action\n⌚ Early entry into the venue (1.5 hours before puck drop) \nCLICK HERE TO BOOK BAR RAIL SEATING\nSelect the game you want to attend\, then click on the “RAIL” portion of the seating map to secure your seats. \nLimited availability for each home game. Sold in packages of two (2) seats. \nFor more information on bar rail seating\, call Tanya at 250-276-2119 or email SOEC-PremiumSeating@OakViewGroup.com.
URL:https://soec.ca/event/vees-vs-hitmen-jan17/
LOCATION:South Okanagan Events Centre\, 853 Eckhardt Ave. West\, Penticton\, BC\, V2A 9C4\, Canada
ATTACH;FMTTYPE=image/jpeg:https://soec.ca/wp-content/uploads/2025/12/605632480_1456431216485412_6484883361106167527_n.jpg
END:VEVENT
END:VCALENDAR