BEGIN:VCALENDAR
VERSION:2.0
PRODID:-//South Okanagan Events Centre - ECPv6.15.20//NONSGML v1.0//EN
CALSCALE:GREGORIAN
METHOD:PUBLISH
X-WR-CALNAME:South Okanagan Events Centre
X-ORIGINAL-URL:https://soec.ca
X-WR-CALDESC:Events for South Okanagan Events Centre
REFRESH-INTERVAL;VALUE=DURATION:PT1H
X-Robots-Tag:noindex
X-PUBLISHED-TTL:PT1H
BEGIN:VTIMEZONE
TZID:America/Vancouver
BEGIN:DAYLIGHT
TZOFFSETFROM:-0800
TZOFFSETTO:-0700
TZNAME:PDT
DTSTART:20240310T100000
END:DAYLIGHT
BEGIN:STANDARD
TZOFFSETFROM:-0700
TZOFFSETTO:-0800
TZNAME:PST
DTSTART:20241103T090000
END:STANDARD
BEGIN:DAYLIGHT
TZOFFSETFROM:-0800
TZOFFSETTO:-0700
TZNAME:PDT
DTSTART:20250309T100000
END:DAYLIGHT
BEGIN:STANDARD
TZOFFSETFROM:-0700
TZOFFSETTO:-0800
TZNAME:PST
DTSTART:20251102T090000
END:STANDARD
BEGIN:DAYLIGHT
TZOFFSETFROM:-0800
TZOFFSETTO:-0700
TZNAME:PDT
DTSTART:20260308T100000
END:DAYLIGHT
BEGIN:STANDARD
TZOFFSETFROM:-0700
TZOFFSETTO:-0800
TZNAME:PST
DTSTART:20261101T090000
END:STANDARD
END:VTIMEZONE
BEGIN:VEVENT
DTSTART;VALUE=DATE:20251202
DTEND;VALUE=DATE:20251218
DTSTAMP:20260421T021816
CREATED:20251204T180952Z
LAST-MODIFIED:20251218T194503Z
UID:9502-1764633600-1766015999@soec.ca
SUMMARY:The SOEC Holiday Bundle
DESCRIPTION:Not sure what to get your loved ones? We have the perfect gift in mind.\n🎄 The SOEC Holiday Bundle! 🎄\nPurchase a $𝟭𝟬𝟬 𝗦𝗢𝗘𝗖 𝗚𝗶𝗳𝘁 𝗖𝗮𝗿𝗱 and you’ll also receive:\n✨ $𝟮𝟱 𝗙𝗼𝗼𝗱 & 𝗕𝗲𝘃𝗲𝗿𝗮𝗴𝗲 𝗩𝗼𝘂𝗰𝗵𝗲𝗿\n✨ An Official 𝗦𝗢𝗘𝗖 𝗖𝗹𝗲𝗮𝗿 𝗕𝗮𝗴 \nGift cards can be used for event tickets at the SOEC\, select events at the Penticton Trade and Convention Centre\, Penticton Vees games\, and in-venue food & beverages! Get yours online at ValleyFirstTix.com or at the Valley First Box Office. \nGET THE SOEC HOLIDAY BUNDLE HERE\n🎁 𝗢𝗳𝗳𝗲𝗿 𝗲𝗻𝗱𝘀 𝗗𝗲𝗰𝗲𝗺𝗯𝗲𝗿 𝟮𝟯 𝗮𝘁 𝟰 𝗣𝗠. \nIf purchased online\, Holiday Bundles can be picked up at the Valley First Box Office at the SOEC by December 24 at 4:00PM at the latest. Otherwise\, they will be available for pickup starting December 29 at 10:00AM. \n*Offer valid while supplies last. Food & Beverage voucher is valid starting December 30\, 2025 and expires March 31\, 2026. Food & Beverage Vouchers are redeemable at concession stands only (not valid in The Vault Bar & Grill) and must be used in a single transaction. Gift card has no expiry.  Gift cards must be purchased in full $100 increments. For every $100 gift card purchased\, you will receive one $25 Food & Beverage voucher. Cannot be combined with other promotions.
URL:https://soec.ca/event/the-soec-holiday-bundle/
LOCATION:BC
ATTACH;FMTTYPE=image/png:https://soec.ca/wp-content/uploads/2025/12/2025-SOEC-Holiday-Bundle-1920x1080-1.png
END:VEVENT
BEGIN:VEVENT
DTSTART;TZID=America/Vancouver:20251217T183000
DTEND;TZID=America/Vancouver:20251217T213000
DTSTAMP:20260421T021816
CREATED:20251201T184319Z
LAST-MODIFIED:20251201T185000Z
UID:9490-1765996200-1766007000@soec.ca
SUMMARY:Penticton Vees vs. Prince George Cougars | Christmas Classic
DESCRIPTION:TICKET PRICING:\nAdults – $26.00 + GST\nYouth (ages 13-18) – $10.00 + GST\nLocal Children (ages 12 & under) – FREE*\nClub Seating – $32.00 + GST \nFree local children’s tickets and $10 youth tickets are courtesy of Peters Bros Construction. \n*Free tickets for local children are available in person only at the Valley First Box Office at the SOEC and must be accompanied by a parent or guardian.\n\n  \nPREMIUM BAR RAIL SEATING:\nEnjoy the Penticton Vees like never before with premium Bar Rail seating inside The Vault Bar & Grill! \nFor $80.00 + GST\, your experience includes:\n🎫 One (1) Penticton Vees game ticket\n🍝 A $38.00 Food & Beverage voucher to enjoy your favourites from The Vault Bar & Grill\n🏒 Premium\, elevated seating overlooking the action\n⌚ Early entry into the venue (1.5 hours before puck drop) \nCLICK HERE TO BOOK BAR RAIL SEATING\nSelect the game you want to attend\, then click on the “RAIL” portion of the seating map to secure your seats. \nLimited availability for each home game. Sold in packages of two (2) seats. \nFor more information on bar rail seating\, call Tanya at 250-276-2119 or email SOEC-PremiumSeating@OakViewGroup.com.
URL:https://soec.ca/event/vees-vs-cougars-dec17/
LOCATION:South Okanagan Events Centre\, 853 Eckhardt Ave. West\, Penticton\, BC\, V2A 9C4\, Canada
ATTACH;FMTTYPE=image/png:https://soec.ca/wp-content/uploads/2025/10/vs-Prince-George-Cougars.png
END:VEVENT
END:VCALENDAR